BEGIN:VCALENDAR
VERSION:2.0
PRODID:-//Concealed AZ - ECPv6.15.20//NONSGML v1.0//EN
CALSCALE:GREGORIAN
METHOD:PUBLISH
X-ORIGINAL-URL:https://concealedaz.com
X-WR-CALDESC:Events for Concealed AZ
REFRESH-INTERVAL;VALUE=DURATION:PT1H
X-Robots-Tag:noindex
X-PUBLISHED-TTL:PT1H
BEGIN:VTIMEZONE
TZID:America/Phoenix
BEGIN:STANDARD
TZOFFSETFROM:-0700
TZOFFSETTO:-0700
TZNAME:MST
DTSTART:20250101T000000
END:STANDARD
END:VTIMEZONE
BEGIN:VEVENT
DTSTART;TZID=America/Phoenix:20260404T093000
DTEND;TZID=America/Phoenix:20260404T143000
DTSTAMP:20260422T080709
CREATED:20260313T222109Z
LAST-MODIFIED:20260404T214719Z
UID:10000172-1775295000-1775313000@concealedaz.com
SUMMARY:Arizona CCW Permit Class in North Phoenix AZ
DESCRIPTION:Arizona CCW Class in North Phoenix
URL:https://concealedaz.com/az-ccw-class/arizona-ccw-permit-class-in-north-phoenix-az-48/
LOCATION:Ben Avery Shooting Range\, 4044 W Black Canyon Blvd\, Phoenix\, AZ\, 85086\, United States
CATEGORIES:Arizona CCW Permit Classes
ATTACH;FMTTYPE=image/jpeg:https://concealedaz.com/wp-content/uploads/2024/08/fc19449ed7f9118920c8624d42d1caab.jpg
GEO:33.8053121;-112.1459849
X-APPLE-STRUCTURED-LOCATION;VALUE=URI;X-ADDRESS=Ben Avery Shooting Range 4044 W Black Canyon Blvd Phoenix AZ 85086 United States;X-APPLE-RADIUS=500;X-TITLE=4044 W Black Canyon Blvd:geo:-112.1459849,33.8053121
END:VEVENT
END:VCALENDAR