BEGIN:VCALENDAR
VERSION:2.0
PRODID:-//Concealed AZ - ECPv6.15.20//NONSGML v1.0//EN
CALSCALE:GREGORIAN
METHOD:PUBLISH
X-WR-CALNAME:Concealed AZ
X-ORIGINAL-URL:https://concealedaz.com
X-WR-CALDESC:Events for Concealed AZ
REFRESH-INTERVAL;VALUE=DURATION:PT1H
X-Robots-Tag:noindex
X-PUBLISHED-TTL:PT1H
BEGIN:VTIMEZONE
TZID:America/Phoenix
BEGIN:STANDARD
TZOFFSETFROM:-0700
TZOFFSETTO:-0700
TZNAME:MST
DTSTART:20250101T000000
END:STANDARD
END:VTIMEZONE
BEGIN:VEVENT
DTSTART;TZID=America/Phoenix:20260516T080000
DTEND;TZID=America/Phoenix:20260516T120000
DTSTAMP:20260420T045900
CREATED:20260419T214542Z
LAST-MODIFIED:20260420T113028Z
UID:10000175-1778918400-1778932800@concealedaz.com
SUMMARY:Arizona CCW Permit Class in East Mesa AZ
DESCRIPTION:Arizona CCW Class in East Mesa
URL:https://concealedaz.com/az-ccw-class/arizona-ccw-permit-class-in-east-mesa-az-35/
LOCATION:Rudy’s “Country Store” and Bar-B-Q\, 1733 North Higley Road\, Gilbert\, AZ\, 85234\, United States
CATEGORIES:Arizona CCW Permit Classes
ATTACH;FMTTYPE=image/jpeg:https://concealedaz.com/wp-content/uploads/2024/06/92b54d766ba35779bb27eac0c3e662a4-1.jpg
GEO:33.381439;-111.7210124
X-APPLE-STRUCTURED-LOCATION;VALUE=URI;X-ADDRESS=Rudy’s “Country Store” and Bar-B-Q 1733 North Higley Road Gilbert AZ 85234 United States;X-APPLE-RADIUS=500;X-TITLE=1733 North Higley Road:geo:-111.7210124,33.381439
END:VEVENT
END:VCALENDAR